BEGIN:VCALENDAR
VERSION:2.0
PRODID:-//Tukios.com/
BEGIN:VEVENT
UID:111b4310-5319-4e23-a374-99c7d3b04cb8@www.brownsfuneralhomepicayune.com
DTSTAMP:20260421T235419Z
DTSTART:20260425T203000Z
DTEND:20260425T213000Z
SUMMARY:Interment
DESCRIPTION:
URL:https://www.brownsfuneralhomepicayune.com/obituaries/bertina-brown
LOCATION: 2500 Palestine Road  Picayune MS 39466
GEO:30.533384;-89.7305151
END:VEVENT
END:VCALENDAR