BEGIN:VCALENDAR
VERSION:2.0
PRODID:-//Tukios.com/
BEGIN:VEVENT
UID:e12a01b0-cfcc-4e7c-b64d-91f2eed86248@www.brownsfuneralhomepicayune.com
DTSTAMP:20260421T235312Z
DTSTART:20260425T190000Z
DTEND:20260425T200000Z
SUMMARY:Funeral Service
DESCRIPTION:
URL:https://www.brownsfuneralhomepicayune.com/obituaries/bertina-brown
LOCATION:First Cornerstone Baptist Church 917 Cayten Street  Picayune MS 
	39466
GEO:30.5404361;-89.6666731
END:VEVENT
END:VCALENDAR