BEGIN:VCALENDAR
VERSION:2.0
PRODID:-//Tukios.com/
BEGIN:VEVENT
UID:42b5b6f4-4121-4901-a23c-6cb95b61ea6c@www.brownsfuneralhomepicayune.com
DTSTAMP:20260421T235429Z
DTSTART:20260425T180000Z
DTEND:20260425T190000Z
SUMMARY:Visitation
DESCRIPTION:
URL:https://www.brownsfuneralhomepicayune.com/obituaries/bertina-brown
LOCATION:First Cornerstone Baptist Church 917 Cayten Street  Picayune MS 
	39466
GEO:30.5404361;-89.6666731
END:VEVENT
END:VCALENDAR